Workbook

Sheet 説明
B2: 県大会へ出場するチームの監督さんにお願い
B3: ＊申込書に入力すると、TO用ﾒﾝﾊﾞｰ表、ﾒﾝﾊﾞｰ表にも入力されます。（JBA登録番号の下3桁も）
B4: ＊引率責任者には、学校関係者もしくは部活動指導員の氏名を入力してください。 ＊コーチ、Ａコーチにはベンチ入りする人の氏名を入力してください。 ＊コーチ、Ａコーチに外部指導者が入る場合には 線を引いてください。 部活動指導員が入る場合には、（指）を入れてください。 提出用ﾒﾝﾊﾞｰ表のシートには、 線が反映されませんので、提出用ﾒﾝﾊﾞｰ表にも 忘れずに引いてください。 ＊登録番号の下３桁は記入する必要はありません。
B5: ＊申込書とデータの提出場所が違うので注意して下さい。
B6: ＊このファイルごと各支部の部長さんへデータを提出して下さい。
B7: 期限厳守でお願いします。（ＴＯ用メンバー表は任意でお使いください）
B9: 各支部の部長さんにお願い
B11: ＊メンバー表から提出用へのコピーは、
B12: 「形式を選択して貼り付け」で
B13: 「値と数値の書式」を選択して貼り付けてください。
B15: ＊外部指導者がいる学校の提出用ﾒﾝﾊﾞｰ表に 線が引かれているか確認してください。
B16: データは担当に送付して下さい（要項に記載）
... B23: 「籠球」だけにしてください。

Sheet 情報
A1: 【 基本情報 】 | E1: ※ 黄色の四角 の中に入力してください。
K3: 中学校 | L3: 男子 | M3: 外部コーチ | P3: 甲府 | R3: 教員 | S3: 教員 | T3: 中学校長
B4: ①支部は？ | C4: →→→→→→→→→→→→→→→→→ | G4: ※ プルダウン選択 | K4: クラブ | L4: 女子 | M4: マネージャー | P4: 中巨摩 | R4: 指導員 | S4: 指導員 | T4: クラブ代表
M5: 外部コーチ | P5: 峡北 | S5: 外部指導
B6: JBA登録番号は？ | C6: →→→→→→→→→→→→→→→→→ | G6: ※ Tから始まる数字（半角で） | M6: マネージャー | P6: 東山梨
M7: トレーナー | P7: 笛吹
B8: 学校名は？ | C8: →→→→→→→→→→→→→→→→→ | G8: ※直接入力 地域クラブはチーム名 | P8: 吉田
P9: 峡南
B10: 区分は？ | C10: →→→→→→→→→→→→→→→→→ | G10: ※ プルダウン選択 | P10: 都留
P11: 南都留
B12: 種別は？ | C12: →→→→→→→→→→→→→→→→→ | G12: ※ プルダウン選択 | P12: 北都留
B14: 申込書作成日は？ | C14: （直接入力）→→→→→→→→→→→ | G14: ※ 令和○年○月○日 の形で入力（数字は半角で）
B16: 電話番号 | C16: （直接入力）→→→→→→→→→→→ | G16: ※ 直接入力（半角で）
B18: 校長名は？ | C18: 直接入力（地域クラブは代表者名で）→→ | G18: 立場プルダウン選択
B20: 引率責任者は？ | C20: （直接入力）→→→→→→→→→→→ | G20: 立場プルダウン選択
B22: コーチは？ | C22: （直接入力）→→→→→→→→→→→ | G22: 立場プルダウン選択
B24: Aコーチは？ | C24: （直接入力）→→→→→→→→→→→ | G24: 立場プルダウン選択
A26: マネージャーは？ | C26: （直接入力）→→→→→→→→→→→
E28: ※ 欠番の場合には以降の番号をつめてください。
A29: 【 選手情報 】 | E29: ※ 背番号(変更の場合のみ)，学年，身長，氏名を入力してください。
C30: 変更がある場合打ち直す↓ | F30: 数字のみ↓プルダウン | G30: 数字のみ↓ | H30: 数字のみ↓ | I30: あれば入力↓
C31: No | D31: 背番号 | E31: 氏名 | F31: 学年 | G31: 身長 | H31: JBA登録番号 | I31: 備考
C32: 1 | D32: 4
C33: 2 | D33: 5
C34: 3 | D34: 6
C35: 4 | D35: 7
C36: 5 | D36: 8
C37: 6 | D37: 9
C38: 7 | D38: 10
C39: 8 | D39: 11
C40: 9 | D40: 12
C41: 10 | D41: 13
C42: 11 | D42: 14
C43: 12 | D43: 15
... C49: 18 | D49: 21

Sheet 申込書
A1: 第49回 山梨県新人バスケットボール大会申込書
A2: 支 部 名 | C2: =情報!F4 -> 0 | D2: 支 部 | E2: 申込日 | G2: =情報!F14 -> 0
A3: 学校名（チーム名） | C3: =情報!F8 -> 0 | D3: =情報!F10 -> 0 | E3: 種 別 | G3: =情報!F12 -> 0
A4: JBAチーム登録番号 | C4: =情報!F6 -> 0 | E4: 電 話 | G4: =情報!F16 -> 0
A5: 引率責任者 | C5: =情報!F20 -> 0 | D5: =情報!H20 -> 0 | E5: Ａコーチ名 | G5: =情報!F24 -> 0 | H5: =情報!H24 -> 0
A6: コーチ名 | C6: =情報!F22 -> 0 | D6: =情報!H22 -> 0 | E6: マネージャー名 | G6: =情報!F26 -> 0
C7: ※教員か部活動指導員（指導員）かどちらかに○
A8: ＮＯ | B8: 背番号 | C8: 選 手 名 | E8: 学 年 | F8: 身 長 | G8: JBA選手登録番号 | H8: 備 考
A9: 1 | B9: =情報!D32 -> 4 | C9: =情報!E32 -> 0 | E9: =情報!F32 -> 0 | F9: =情報!G32 -> 0 | G9: =情報!H32 -> 0 | H9: =情報!I32 -> 0
A10: 2 | B10: =情報!D33 -> 5 | C10: =情報!E33 -> 0 | E10: =情報!F33 -> 0 | F10: =情報!G33 -> 0 | G10: =情報!H33 -> 0 | H10: =情報!I33 -> 0
A11: 3 | B11: =情報!D34 -> 6 | C11: =情報!E34 -> 0 | E11: =情報!F34 -> 0 | F11: =情報!G34 -> 0 | G11: =情報!H34 -> 0 | H11: =情報!I34 -> 0
A12: 4 | B12: =情報!D35 -> 7 | C12: =情報!E35 -> 0 | E12: =情報!F35 -> 0 | F12: =情報!G35 -> 0 | G12: =情報!H35 -> 0 | H12: =情報!I35 -> 0
A13: 5 | B13: =情報!D36 -> 8 | C13: =情報!E36 -> 0 | E13: =情報!F36 -> 0 | F13: =情報!G36 -> 0 | G13: =情報!H36 -> 0 | H13: =情報!I36 -> 0
A14: 6 | B14: =情報!D37 -> 9 | C14: =情報!E37 -> 0 | E14: =情報!F37 -> 0 | F14: =情報!G37 -> 0 | G14: =情報!H37 -> 0 | H14: =情報!I37 -> 0
A15: 7 | B15: =情報!D38 -> 10 | C15: =情報!E38 -> 0 | E15: =情報!F38 -> 0 | F15: =情報!G38 -> 0 | G15: =情報!H38 -> 0 | H15: =情報!I38 -> 0
A16: 8 | B16: =情報!D39 -> 11 | C16: =情報!E39 -> 0 | E16: =情報!F39 -> 0 | F16: =情報!G39 -> 0 | G16: =情報!H39 -> 0 | H16: =情報!I39 -> 0
A17: 9 | B17: =情報!D40 -> 12 | C17: =情報!E40 -> 0 | E17: =情報!F40 -> 0 | F17: =情報!G40 -> 0 | G17: =情報!H40 -> 0 | H17: =情報!I40 -> 0
A18: 10 | B18: =情報!D41 -> 13 | C18: =情報!E41 -> 0 | E18: =情報!F41 -> 0 | F18: =情報!G41 -> 0 | G18: =情報!H41 -> 0 | H18: =情報!I41 -> 0
A19: 11 | B19: =情報!D42 -> 14 | C19: =情報!E42 -> 0 | E19: =情報!F42 -> 0 | F19: =情報!G42 -> 0 | G19: =情報!H42 -> 0 | H19: =情報!I42 -> 0
A20: 12 | B20: =情報!D43 -> 15 | C20: =情報!E43 -> 0 | E20: =情報!F43 -> 0 | F20: =情報!G43 -> 0 | G20: =情報!H43 -> 0 | H20: =情報!I43 -> 0
... A26: 18 | B26: =情報!D49 -> 21 | C26: =情報!E49 -> 0 | E26: =情報!F49 -> 0 | F26: =情報!G49 -> 0 | G26: =情報!H49 -> 0 | H26: =情報!I49 -> 0
A27: ＊ 本大会のプログラム及び報道発表並びにホームページにおける氏名・学校名・学年・写真等の個人情報の掲載については 本人及び保護者の同意を得ています。(掲載の同意が得られない場合には備考欄にチェックし，その旨を明らかにすること)
A28: 出 場 承 諾 書
A29: 山梨県小中学校体育連盟会長 鶴田 誠司 殿
A32: 上記の選手が、大会に出場することを承諾する。
A34: なお、大会参加料を添えて申し込みます。
C35: ※大会参加生徒 | D35: =COUNTIFS(C9:D26,"<>",C9:D26,"<>0") -> 0 | E35: 人 ×５００円 ＝ | G35: =D35*500 -> 0 | H35: 円
A36: =G2 -> 0 | C36: =C3 -> 0 | D36: =情報!H18 -> 0 | F36: =情報!F18 -> 0 | H36: 印

Sheet 追加エントリー用
A1: 第49回 山梨県中学校新人バスケットボール大会申込書（追加用）
A2: 支 部 名 | C2: =申込書!C2 -> 0 | D2: 支 部 | E2: 種 別 | G2: =申込書!G3 -> 0
A3: 学 校 名 | C3: =申込書!C3 -> 0 | D3: =申込書!$D$3 -> 0 | E3: 電 話 | G3: =申込書!G4 -> 0
A4: JBAチーム登録番号 | C4: =申込書!C4 -> 0
A6: ＮＯ | B6: 背番号 | C6: 選 手 名 | E6: 学 年 | F6: 身 長 | G6: JBA選手登録番号 | H6: 備 考
A25: ＊ 本大会のプログラム及び報道発表並びにホームページにおける氏名・学校名・学年・写真等の個人情報の掲載については 本人及び保護者の同意を得ています。(掲載の同意が得られない場合には備考欄にチェックし，その旨を明らかにすること)
A26: 出 場 承 諾 書
A27: 山梨県小中学校体育連盟会長 鶴田 誠司 殿
A30: 上記の選手が、大会に出場することを承諾する。
A32: なお、大会参加料を添えて申し込みます。
C33: ※大会参加生徒 | D33: =COUNTA(C7:D24) -> 0 | E33: 人 ×５００円 ＝ | G33: =D33*500 -> 0 | H33: 円
A34: =情報!F14 -> 0 | C34: =情報!F8 -> 0 | D34: =情報!H18 -> 0 | F34: =情報!F18 -> 0 | H34: 印

Sheet TO用メンバー表
A1: ＴＯ用メンバー表 （前ゲームのハーフタイムにＴＯに提出してください。）
A2: ※Ａ・Ｂチーム用があります。注意してください。
A3: ※スコアシートに貼るので、書式等は変更せず、余白がないように線に沿って切り取ってください。
A4: 【 チームＡ用 】
B7: チームＡ TeamＡ | I7: =IF(申込書!$C$3="","",申込書!$C$3) -> 0 | AU7: チームＡ TeamＡ | BB7: =IF(申込書!$C$3="","",申込書!$C$3) -> 0
B14: タイムアウト | AU14: タイムアウト
W15: チームファウル Team fouls | BP15: チームファウル Team fouls
B17: Time-outs | AU17: Time-outs
J20: クォーター Quarter | V20: ① | Y20: 1 | AA20: 2 | AC20: 3 | AE20: 4 | AG20: ② | AJ20: 1 | AL20: 2 | AN20: 3 | AP20: 4 | BC20: クォーター Quarter | BO20: ① | BR20: 1 | BT20: 2 | BV20: 3 | BX20: 4 | BZ20: ② | CC20: 1 | CE20: 2 | CG20: 3 | CI20: 4
Y24: 1 | AA24: 2 | AC24: 3 | AE24: 4 | AJ24: 1 | AL24: 2 | AN24: 3 | AP24: 4 | BR24: 1 | BT24: 2 | BV24: 3 | BX24: 4 | CC24: 1 | CE24: 2 | CG24: 3 | CI24: 4
J25: クォーター Quarter | V25: ③ | Y25: 1 | AA25: 2 | AC25: 3 | AE25: 4 | AG25: ④ | AJ25: 1 | AL25: 2 | AN25: 3 | AP25: 4 | BC25: クォーター Quarter | BO25: ③ | BR25: 1 | BT25: 2 | BV25: 3 | BX25: 4 | BZ25: ④ | CC25: 1 | CE25: 2 | CG25: 3 | CI25: 4
J30: オーバータイム Overtimes | BC30: オーバータイム Overtimes
A35: No. | C35: Licence | I35: 選手氏名 Players | X35: No. | AA35: Player | AD35: ファウル Fouls | AT35: No. | AV35: Licence | BB35: 選手氏名 Players | BQ35: No. | BT35: Player | BW35: ファウル Fouls
C38: no. | AA38: in | AD38: 1 | AG38: 2 | AJ38: 3 | AM38: 4 | AP38: 5 | AV38: no. | BT38: in | BW38: 1 | BZ38: 2 | CC38: 3 | CF38: 4 | CI38: 5
A40: 1 | C40: =LEFT(RIGHT(申込書!$G9,3)) -> 0 | E40: =LEFT(RIGHT(申込書!$G9,2)) -> 0 | G40: =LEFT(RIGHT(申込書!$G9,1)) -> 0 | I40: =IF(申込書!$C$9="","",申込書!$C$9) -> 0 | X40: =IF(申込書!$B$9="","",申込書!$B$9) -> 4 | AT40: 1 | AV40: =LEFT(RIGHT(申込書!$G9,3)) -> 0 | AX40: =LEFT(RIGHT(申込書!$G9,2)) -> 0 | AZ40: =LEFT(RIGHT(申込書!$G9,1)) -> 0 | BB40: =IF(申込書!$C$9="","",申込書!$C$9) -> 0 | BQ40: =IF(申込書!$B$9="","",申込書!$B$9) -> 4
A44: 2 | C44: =LEFT(RIGHT(申込書!$G10,3)) -> 0 | E44: =LEFT(RIGHT(申込書!$G10,2)) -> 0 | G44: =LEFT(RIGHT(申込書!$G10,1)) -> 0 | I44: =IF(申込書!$C$10="","",申込書!$C$10) -> 0 | X44: =IF(申込書!$B$10="","",申込書!$B$10) -> 5 | AT44: 2 | AV44: =LEFT(RIGHT(申込書!$G10,3)) -> 0 | AX44: =LEFT(RIGHT(申込書!$G10,2)) -> 0 | AZ44: =LEFT(RIGHT(申込書!$G10,1)) -> 0 | BB44: =IF(申込書!$C$10="","",申込書!$C$10) -> 0 | BQ44: =IF(申込書!$B$10="","",申込書!$B$10) -> 5
A48: 3 | C48: =LEFT(RIGHT(申込書!$G11,3)) -> 0 | E48: =LEFT(RIGHT(申込書!$G11,2)) -> 0 | G48: =LEFT(RIGHT(申込書!$G11,1)) -> 0 | I48: =IF(申込書!$C$11="","",申込書!$C$11) -> 0 | X48: =IF(申込書!$B$11="","",申込書!$B$11) -> 6 | AT48: 3 | AV48: =LEFT(RIGHT(申込書!$G11,3)) -> 0 | AX48: =LEFT(RIGHT(申込書!$G11,2)) -> 0 | AZ48: =LEFT(RIGHT(申込書!$G11,1)) -> 0 | BB48: =IF(申込書!$C$11="","",申込書!$C$11) -> 0 | BQ48: =IF(申込書!$B$11="","",申込書!$B$11) -> 6
A52: 4 | C52: =LEFT(RIGHT(申込書!$G12,3)) -> 0 | E52: =LEFT(RIGHT(申込書!$G12,2)) -> 0 | G52: =LEFT(RIGHT(申込書!$G12,1)) -> 0 | I52: =IF(申込書!$C$12="","",申込書!$C$12) -> 0 | X52: =IF(申込書!$B$12="","",申込書!$B$12) -> 7 | AT52: 4 | AV52: =LEFT(RIGHT(申込書!$G12,3)) -> 0 | AX52: =LEFT(RIGHT(申込書!$G12,2)) -> 0 | AZ52: =LEFT(RIGHT(申込書!$G12,1)) -> 0 | BB52: =IF(申込書!$C$12="","",申込書!$C$12) -> 0 | BQ52: =IF(申込書!$B$12="","",申込書!$B$12) -> 7
A56: 5 | C56: =LEFT(RIGHT(申込書!$G13,3)) -> 0 | E56: =LEFT(RIGHT(申込書!$G13,2)) -> 0 | G56: =LEFT(RIGHT(申込書!$G13,1)) -> 0 | I56: =IF(申込書!$C$13="","",申込書!$C$13) -> 0 | X56: =IF(申込書!$B$13="","",申込書!$B$13) -> 8 | AT56: 5 | AV56: =LEFT(RIGHT(申込書!$G13,3)) -> 0 | AX56: =LEFT(RIGHT(申込書!$G13,2)) -> 0 | AZ56: =LEFT(RIGHT(申込書!$G13,1)) -> 0 | BB56: =IF(申込書!$C$13="","",申込書!$C$13) -> 0 | BQ56: =IF(申込書!$B$13="","",申込書!$B$13) -> 8
A60: 6 | C60: =LEFT(RIGHT(申込書!$G14,3)) -> 0 | E60: =LEFT(RIGHT(申込書!$G14,2)) -> 0 | G60: =LEFT(RIGHT(申込書!$G14,1)) -> 0 | I60: =IF(申込書!$C$14="","",申込書!$C$14) -> 0 | X60: =IF(申込書!$B$14="","",申込書!$B$14) -> 9 | AT60: 6 | AV60: =LEFT(RIGHT(申込書!$G14,3)) -> 0 | AX60: =LEFT(RIGHT(申込書!$G14,2)) -> 0 | AZ60: =LEFT(RIGHT(申込書!$G14,1)) -> 0 | BB60: =IF(申込書!$C$14="","",申込書!$C$14) -> 0 | BQ60: =IF(申込書!$B$14="","",申込書!$B$14) -> 9
A64: 7 | C64: =LEFT(RIGHT(申込書!$G15,3)) -> 0 | E64: =LEFT(RIGHT(申込書!$G15,2)) -> 0 | G64: =LEFT(RIGHT(申込書!$G15,1)) -> 0 | I64: =IF(申込書!$C$15="","",申込書!$C$15) -> 0 | X64: =IF(申込書!$B$15="","",申込書!$B$15) -> 10 | AT64: 7 | AV64: =LEFT(RIGHT(申込書!$G15,3)) -> 0 | AX64: =LEFT(RIGHT(申込書!$G15,2)) -> 0 | AZ64: =LEFT(RIGHT(申込書!$G15,1)) -> 0 | BB64: =IF(申込書!$C$15="","",申込書!$C$15) -> 0 | BQ64: =IF(申込書!$B$15="","",申込書!$B$15) -> 10
A68: 8 | C68: =LEFT(RIGHT(申込書!$G16,3)) -> 0 | E68: =LEFT(RIGHT(申込書!$G16,2)) -> 0 | G68: =LEFT(RIGHT(申込書!$G16,1)) -> 0 | I68: =IF(申込書!$C$16="","",申込書!$C$16) -> 0 | X68: =IF(申込書!$B$16="","",申込書!$B$16) -> 11 | AT68: 8 | AV68: =LEFT(RIGHT(申込書!$G16,3)) -> 0 | AX68: =LEFT(RIGHT(申込書!$G16,2)) -> 0 | AZ68: =LEFT(RIGHT(申込書!$G16,1)) -> 0 | BB68: =IF(申込書!$C$16="","",申込書!$C$16) -> 0 | BQ68: =IF(申込書!$B$16="","",申込書!$B$16) -> 11
A72: 9 | C72: =LEFT(RIGHT(申込書!$G17,3)) -> 0 | E72: =LEFT(RIGHT(申込書!$G17,2)) -> 0 | G72: =LEFT(RIGHT(申込書!$G17,1)) -> 0 | I72: =IF(申込書!$C$17="","",申込書!$C$17) -> 0 | X72: =IF(申込書!$B$17="","",申込書!$B$17) -> 12 | AT72: 9 | AV72: =LEFT(RIGHT(申込書!$G17,3)) -> 0 | AX72: =LEFT(RIGHT(申込書!$G17,2)) -> 0 | AZ72: =LEFT(RIGHT(申込書!$G17,1)) -> 0 | BB72: =IF(申込書!$C$17="","",申込書!$C$17) -> 0 | BQ72: =IF(申込書!$B$17="","",申込書!$B$17) -> 12
A76: 10 | C76: =LEFT(RIGHT(申込書!$G18,3)) -> 0 | E76: =LEFT(RIGHT(申込書!$G18,2)) -> 0 | G76: =LEFT(RIGHT(申込書!$G18,1)) -> 0 | I76: =IF(申込書!$C$18="","",申込書!$C$18) -> 0 | X76: =IF(申込書!$B$18="","",申込書!$B$18) -> 13 | AT76: 10 | AV76: =LEFT(RIGHT(申込書!$G18,3)) -> 0 | AX76: =LEFT(RIGHT(申込書!$G18,2)) -> 0 | AZ76: =LEFT(RIGHT(申込書!$G18,1)) -> 0 | BB76: =IF(申込書!$C$18="","",申込書!$C$18) -> 0 | BQ76: =IF(申込書!$B$18="","",申込書!$B$18) -> 13
A80: 11 | C80: =LEFT(RIGHT(申込書!$G19,3)) -> 0 | E80: =LEFT(RIGHT(申込書!$G19,2)) -> 0 | G80: =LEFT(RIGHT(申込書!$G19,1)) -> 0 | I80: =IF(申込書!$C$19="","",申込書!$C$19) -> 0 | X80: =IF(申込書!$B$19="","",申込書!$B$19) -> 14 | AT80: 11 | AV80: =LEFT(RIGHT(申込書!$G19,3)) -> 0 | AX80: =LEFT(RIGHT(申込書!$G19,2)) -> 0 | AZ80: =LEFT(RIGHT(申込書!$G19,1)) -> 0 | BB80: =IF(申込書!$C$19="","",申込書!$C$19) -> 0 | BQ80: =IF(申込書!$B$19="","",申込書!$B$19) -> 14
A84: 12 | C84: =LEFT(RIGHT(申込書!$G20,3)) -> 0 | E84: =LEFT(RIGHT(申込書!$G20,2)) -> 0 | G84: =LEFT(RIGHT(申込書!$G20,1)) -> 0 | I84: =IF(申込書!$C$20="","",申込書!$C$20) -> 0 | X84: =IF(申込書!$B$20="","",申込書!$B$20) -> 15 | AT84: 12 | AV84: =LEFT(RIGHT(申込書!$G20,3)) -> 0 | AX84: =LEFT(RIGHT(申込書!$G20,2)) -> 0 | AZ84: =LEFT(RIGHT(申込書!$G20,1)) -> 0 | BB84: =IF(申込書!$C$20="","",申込書!$C$20) -> 0 | BQ84: =IF(申込書!$B$20="","",申込書!$B$20) -> 15
A88: 13 | C88: =LEFT(RIGHT(申込書!$G21,3)) -> 0 | E88: =LEFT(RIGHT(申込書!$G21,2)) -> 0 | G88: =LEFT(RIGHT(申込書!$G21,1)) -> 0 | I88: =IF(申込書!$C$21="","",申込書!$C$21) -> 0 | X88: =IF(申込書!$B$21="","",申込書!$B$21) -> 16 | AT88: 13 | AV88: =LEFT(RIGHT(申込書!$G21,3)) -> 0 | AX88: =LEFT(RIGHT(申込書!$G21,2)) -> 0 | AZ88: =LEFT(RIGHT(申込書!$G21,1)) -> 0 | BB88: =IF(申込書!$C$21="","",申込書!$C$21) -> 0 | BQ88: =IF(申込書!$B$21="","",申込書!$B$21) -> 16
A92: 14 | C92: =LEFT(RIGHT(申込書!$G22,3)) -> 0 | E92: =LEFT(RIGHT(申込書!$G22,2)) -> 0 | G92: =LEFT(RIGHT(申込書!$G22,1)) -> 0 | I92: =IF(申込書!$C$22="","",申込書!$C$22) -> 0 | X92: =IF(申込書!$B$22="","",申込書!$B$22) -> 17 | AT92: 14 | AV92: =LEFT(RIGHT(申込書!$G22,3)) -> 0 | AX92: =LEFT(RIGHT(申込書!$G22,2)) -> 0 | AZ92: =LEFT(RIGHT(申込書!$G22,1)) -> 0 | BB92: =IF(申込書!$C$22="","",申込書!$C$22) -> 0 | BQ92: =IF(申込書!$B$22="","",申込書!$B$22) -> 17
A96: 15 | C96: =LEFT(RIGHT(申込書!$G23,3)) -> 0 | E96: =LEFT(RIGHT(申込書!$G23,2)) -> 0 | G96: =LEFT(RIGHT(申込書!$G23,1)) -> 0 | I96: =IF(申込書!$C$23="","",申込書!$C$23) -> 0 | X96: =IF(申込書!$B$23="","",申込書!$B$23) -> 18 | AT96: 15 | AV96: =LEFT(RIGHT(申込書!$G23,3)) -> 0 | AX96: =LEFT(RIGHT(申込書!$G23,2)) -> 0 | AZ96: =LEFT(RIGHT(申込書!$G23,1)) -> 0 | BB96: =IF(申込書!$C$23="","",申込書!$C$23) -> 0 | BQ96: =IF(申込書!$B$23="","",申込書!$B$23) -> 18
A100: 16 | C100: =LEFT(RIGHT(申込書!$G24,3)) -> 0 | E100: =LEFT(RIGHT(申込書!$G24,2)) -> 0 | G100: =LEFT(RIGHT(申込書!$G24,1)) -> 0 | I100: =IF(申込書!$C$24="","",申込書!$C$24) -> 0 | X100: =IF(申込書!$B$24="","",申込書!$B$24) -> 19 | AT100: 16 | AV100: =LEFT(RIGHT(申込書!$G24,3)) -> 0 | AX100: =LEFT(RIGHT(申込書!$G24,2)) -> 0 | AZ100: =LEFT(RIGHT(申込書!$G24,1)) -> 0 | BB100: =IF(申込書!$C$24="","",申込書!$C$24) -> 0 | BQ100: =IF(申込書!$B$24="","",申込書!$B$24) -> 19
A104: 17 | C104: =LEFT(RIGHT(申込書!$G25,3)) -> 0 | E104: =LEFT(RIGHT(申込書!$G25,2)) -> 0 | G104: =LEFT(RIGHT(申込書!$G25,1)) -> 0 | I104: =IF(申込書!$C$25="","",申込書!$C$25) -> 0 | X104: =IF(申込書!$B$25="","",申込書!$B$25) -> 20 | AT104: 17 | AV104: =LEFT(RIGHT(申込書!$G25,3)) -> 0 | AX104: =LEFT(RIGHT(申込書!$G25,2)) -> 0 | AZ104: =LEFT(RIGHT(申込書!$G25,1)) -> 0 | BB104: =IF(申込書!$C$25="","",申込書!$C$25) -> 0 | BQ104: =IF(申込書!$B$25="","",申込書!$B$25) -> 20
A108: 18 | C108: =LEFT(RIGHT(申込書!$G26,3)) -> 0 | E108: =LEFT(RIGHT(申込書!$G26,2)) -> 0 | G108: =LEFT(RIGHT(申込書!$G26,1)) -> 0 | I108: =IF(申込書!$C$26="","",申込書!$C$26) -> 0 | X108: =IF(申込書!$B$26="","",申込書!$B$26) -> 21 | AT108: 18 | AV108: =LEFT(RIGHT(申込書!$G26,3)) -> 0 | AX108: =LEFT(RIGHT(申込書!$G26,2)) -> 0 | AZ108: =LEFT(RIGHT(申込書!$G26,1)) -> 0 | BB108: =IF(申込書!$C$26="","",申込書!$C$26) -> 0 | BQ108: =IF(申込書!$B$26="","",申込書!$B$26) -> 21
A112: コーチ Coach | R112: =IF(申込書!$C$6="","",申込書!$C$6) -> 0 | AT112: コーチ Coach | BK112: =IF(申込書!$C$6="","",申込書!$C$6) -> 0
A116: A.コーチ A.Coach | R116: =IF(申込書!$G$5="","",申込書!$G$5) -> 0 | AT116: A.コーチ A.Coach | BK116: =IF(申込書!$G$5="","",申込書!$G$5) -> 0
A121: 【 チームＢ用 】
B123: チームＢ TeamＢ | I123: =IF(申込書!$C$3="","",申込書!$C$3) -> 0 | AU123: チームＢ TeamＢ | BB123: =IF(申込書!$C$3="","",申込書!$C$3) -> 0
B130: タイムアウト | AU130: タイムアウト
W131: チームファウル Team fouls | BP131: チームファウル Team fouls
B133: Time-outs | AU133: Time-outs
J136: クォーター Quarter | V136: ① | Y136: 1 | AA136: 2 | AC136: 3 | AE136: 4 | AG136: ② | AJ136: 1 | AL136: 2 | AN136: 3 | AP136: 4 | BC136: クォーター Quarter | BO136: ① | BR136: 1 | BT136: 2 | BV136: 3 | BX136: 4 | BZ136: ② | CC136: 1 | CE136: 2 | CG136: 3 | CI136: 4
Y140: 1 | AA140: 2 | AC140: 3 | AE140: 4 | AJ140: 1 | AL140: 2 | AN140: 3 | AP140: 4 | BR140: 1 | BT140: 2 | BV140: 3 | BX140: 4 | CC140: 1 | CE140: 2 | CG140: 3 | CI140: 4
J141: クォーター Quarter | V141: ③ | Y141: 1 | AA141: 2 | AC141: 3 | AE141: 4 | AG141: ④ | AJ141: 1 | AL141: 2 | AN141: 3 | AP141: 4 | BC141: クォーター Quarter | BO141: ③ | BR141: 1 | BT141: 2 | BV141: 3 | BX141: 4 | BZ141: ④ | CC141: 1 | CE141: 2 | CG141: 3 | CI141: 4
J146: オーバータイム Overtimes | BC146: オーバータイム Overtimes
A151: No. | C151: Licence | I151: 選手氏名 Players | X151: No. | AA151: Player | AD151: ファウル Fouls | AT151: No. | AV151: Licence | BB151: 選手氏名 Players | BQ151: No. | BT151: Player | BW151: ファウル Fouls
C154: no. | AA154: in | AD154: 1 | AG154: 2 | AJ154: 3 | AM154: 4 | AP154: 5 | AV154: no. | BT154: in | BW154: 1 | BZ154: 2 | CC154: 3 | CF154: 4 | CI154: 5
A156: 1 | C156: =C40 -> 0 | E156: =E40 -> 0 | G156: =G40 -> 0 | I156: =IF(申込書!$C$9="","",申込書!$C$9) -> 0 | X156: =IF(申込書!$B$9="","",申込書!$B$9) -> 4 | AT156: 1 | AV156: =C40 -> 0 | AX156: =E40 -> 0 | AZ156: =G40 -> 0 | BB156: =IF(申込書!$C$9="","",申込書!$C$9) -> 0 | BQ156: =IF(申込書!$B$9="","",申込書!$B$9) -> 4
A160: 2 | C160: =C44 -> 0 | E160: =E44 -> 0 | G160: =G44 -> 0 | I160: =IF(申込書!$C$10="","",申込書!$C$10) -> 0 | X160: =IF(申込書!$B$10="","",申込書!$B$10) -> 5 | AT160: 2 | AV160: =C44 -> 0 | AX160: =E44 -> 0 | AZ160: =G44 -> 0 | BB160: =IF(申込書!$C$10="","",申込書!$C$10) -> 0 | BQ160: =IF(申込書!$B$10="","",申込書!$B$10) -> 5
A164: 3 | C164: =C48 -> 0 | E164: =E48 -> 0 | G164: =G48 -> 0 | I164: =IF(申込書!$C$11="","",申込書!$C$11) -> 0 | X164: =IF(申込書!$B$11="","",申込書!$B$11) -> 6 | AT164: 3 | AV164: =C48 -> 0 | AX164: =E48 -> 0 | AZ164: =G48 -> 0 | BB164: =IF(申込書!$C$11="","",申込書!$C$11) -> 0 | BQ164: =IF(申込書!$B$11="","",申込書!$B$11) -> 6
A168: 4 | C168: =C52 -> 0 | E168: =E52 -> 0 | G168: =G52 -> 0 | I168: =IF(申込書!$C$12="","",申込書!$C$12) -> 0 | X168: =IF(申込書!$B$12="","",申込書!$B$12) -> 7 | AT168: 4 | AV168: =C52 -> 0 | AX168: =E52 -> 0 | AZ168: =G52 -> 0 | BB168: =IF(申込書!$C$12="","",申込書!$C$12) -> 0 | BQ168: =IF(申込書!$B$12="","",申込書!$B$12) -> 7
A172: 5 | C172: =C56 -> 0 | E172: =E56 -> 0 | G172: =G56 -> 0 | I172: =IF(申込書!$C$13="","",申込書!$C$13) -> 0 | X172: =IF(申込書!$B$13="","",申込書!$B$13) -> 8 | AT172: 5 | AV172: =C56 -> 0 | AX172: =E56 -> 0 | AZ172: =G56 -> 0 | BB172: =IF(申込書!$C$13="","",申込書!$C$13) -> 0 | BQ172: =IF(申込書!$B$13="","",申込書!$B$13) -> 8
A176: 6 | C176: =C60 -> 0 | E176: =E60 -> 0 | G176: =G60 -> 0 | I176: =IF(申込書!$C$14="","",申込書!$C$14) -> 0 | X176: =IF(申込書!$B$14="","",申込書!$B$14) -> 9 | AT176: 6 | AV176: =C60 -> 0 | AX176: =E60 -> 0 | AZ176: =G60 -> 0 | BB176: =IF(申込書!$C$14="","",申込書!$C$14) -> 0 | BQ176: =IF(申込書!$B$14="","",申込書!$B$14) -> 9
A180: 7 | C180: =C64 -> 0 | E180: =E64 -> 0 | G180: =G64 -> 0 | I180: =IF(申込書!$C$15="","",申込書!$C$15) -> 0 | X180: =IF(申込書!$B$15="","",申込書!$B$15) -> 10 | AT180: 7 | AV180: =C64 -> 0 | AX180: =E64 -> 0 | AZ180: =G64 -> 0 | BB180: =IF(申込書!$C$15="","",申込書!$C$15) -> 0 | BQ180: =IF(申込書!$B$15="","",申込書!$B$15) -> 10
A184: 8 | C184: =C68 -> 0 | E184: =E68 -> 0 | G184: =G68 -> 0 | I184: =IF(申込書!$C$16="","",申込書!$C$16) -> 0 | X184: =IF(申込書!$B$16="","",申込書!$B$16) -> 11 | AT184: 8 | AV184: =C68 -> 0 | AX184: =E68 -> 0 | AZ184: =G68 -> 0 | BB184: =IF(申込書!$C$16="","",申込書!$C$16) -> 0 | BQ184: =IF(申込書!$B$16="","",申込書!$B$16) -> 11
A188: 9 | C188: =C72 -> 0 | E188: =E72 -> 0 | G188: =G72 -> 0 | I188: =IF(申込書!$C$17="","",申込書!$C$17) -> 0 | X188: =IF(申込書!$B$17="","",申込書!$B$17) -> 12 | AT188: 9 | AV188: =C72 -> 0 | AX188: =E72 -> 0 | AZ188: =G72 -> 0 | BB188: =IF(申込書!$C$17="","",申込書!$C$17) -> 0 | BQ188: =IF(申込書!$B$17="","",申込書!$B$17) -> 12
A192: 10 | C192: =C76 -> 0 | E192: =E76 -> 0 | G192: =G76 -> 0 | I192: =IF(申込書!$C$18="","",申込書!$C$18) -> 0 | X192: =IF(申込書!$B$18="","",申込書!$B$18) -> 13 | AT192: 10 | AV192: =C76 -> 0 | AX192: =E76 -> 0 | AZ192: =G76 -> 0 | BB192: =IF(申込書!$C$18="","",申込書!$C$18) -> 0 | BQ192: =IF(申込書!$B$18="","",申込書!$B$18) -> 13
A196: 11 | C196: =C80 -> 0 | E196: =E80 -> 0 | G196: =G80 -> 0 | I196: =IF(申込書!$C$19="","",申込書!$C$19) -> 0 | X196: =IF(申込書!$B$19="","",申込書!$B$19) -> 14 | AT196: 11 | AV196: =C80 -> 0 | AX196: =E80 -> 0 | AZ196: =G80 -> 0 | BB196: =IF(申込書!$C$19="","",申込書!$C$19) -> 0 | BQ196: =IF(申込書!$B$19="","",申込書!$B$19) -> 14
A200: 12 | C200: =C84 -> 0 | E200: =E84 -> 0 | G200: =G84 -> 0 | I200: =IF(申込書!$C$20="","",申込書!$C$20) -> 0 | X200: =IF(申込書!$B$20="","",申込書!$B$20) -> 15 | AT200: 12 | AV200: =C84 -> 0 | AX200: =E84 -> 0 | AZ200: =G84 -> 0 | BB200: =IF(申込書!$C$20="","",申込書!$C$20) -> 0 | BQ200: =IF(申込書!$B$20="","",申込書!$B$20) -> 15
A204: 13 | C204: =C88 -> 0 | E204: =E88 -> 0 | G204: =G88 -> 0 | I204: =IF(申込書!$C$21="","",申込書!$C$21) -> 0 | X204: =IF(申込書!$B$21="","",申込書!$B$21) -> 16 | AT204: 13 | AV204: =C88 -> 0 | AX204: =E88 -> 0 | AZ204: =G88 -> 0 | BB204: =IF(申込書!$C$21="","",申込書!$C$21) -> 0 | BQ204: =IF(申込書!$B$21="","",申込書!$B$21) -> 16
A208: 14 | C208: =C92 -> 0 | E208: =E92 -> 0 | G208: =G92 -> 0 | I208: =IF(申込書!$C$22="","",申込書!$C$22) -> 0 | X208: =IF(申込書!$B$22="","",申込書!$B$22) -> 17 | AT208: 14 | AV208: =C92 -> 0 | AX208: =E92 -> 0 | AZ208: =G92 -> 0 | BB208: =IF(申込書!$C$22="","",申込書!$C$22) -> 0 | BQ208: =IF(申込書!$B$22="","",申込書!$B$22) -> 17
A212: 15 | C212: =C96 -> 0 | E212: =E96 -> 0 | G212: =G96 -> 0 | I212: =IF(申込書!$C$23="","",申込書!$C$23) -> 0 | X212: =IF(申込書!$B$23="","",申込書!$B$23) -> 18 | AT212: 15 | AV212: =C96 -> 0 | AX212: =E96 -> 0 | AZ212: =G96 -> 0 | BB212: =IF(申込書!$C$23="","",申込書!$C$23) -> 0 | BQ212: =IF(申込書!$B$23="","",申込書!$B$23) -> 18
A216: 16 | C216: =C100 -> 0 | E216: =E100 -> 0 | G216: =G100 -> 0 | I216: =IF(申込書!$C$24="","",申込書!$C$24) -> 0 | X216: =IF(申込書!$B$24="","",申込書!$B$24) -> 19 | AT216: 16 | AV216: =C100 -> 0 | AX216: =E100 -> 0 | AZ216: =G100 -> 0 | BB216: =IF(申込書!$C$24="","",申込書!$C$24) -> 0 | BQ216: =IF(申込書!$B$24="","",申込書!$B$24) -> 19
A220: 17 | C220: =C104 -> 0 | E220: =E104 -> 0 | G220: =G104 -> 0 | I220: =IF(申込書!$C$25="","",申込書!$C$25) -> 0 | X220: =IF(申込書!$B$25="","",申込書!$B$25) -> 20 | AT220: 17 | AV220: =C104 -> 0 | AX220: =E104 -> 0 | AZ220: =G104 -> 0 | BB220: =IF(申込書!$C$25="","",申込書!$C$25) -> 0 | BQ220: =IF(申込書!$B$25="","",申込書!$B$25) -> 20
A224: 18 | C224: =C108 -> 0 | E224: =E108 -> 0 | G224: =G108 -> 0 | I224: =IF(申込書!$C$26="","",申込書!$C$26) -> 0 | X224: =IF(申込書!$B$26="","",申込書!$B$26) -> 21 | AT224: 18 | AV224: =C108 -> 0 | AX224: =E108 -> 0 | AZ224: =G108 -> 0 | BB224: =IF(申込書!$C$26="","",申込書!$C$26) -> 0 | BQ224: =IF(申込書!$B$26="","",申込書!$B$26) -> 21
A228: コーチ Coach | R228: =IF(申込書!$C$6="","",申込書!$C$6) -> 0 | AT228: コーチ Coach | BK228: =IF(申込書!$C$6="","",申込書!$C$6) -> 0
A232: A.コーチ A.Coach | R232: =IF(申込書!$G$5="","",申込書!$G$5) -> 0 | AT232: A.コーチ A.Coach | BK232: =IF(申込書!$G$5="","",申込書!$G$5) -> 0

Sheet メンバー表
A1: =IF(申込書!C3="","",申込書!C3) -> 0 | F1: =LEFT(RIGHT(申込書!C4,3)) -> 0 | G1: =LEFT(RIGHT(申込書!C4,2)) -> 0 | H1: =LEFT(RIGHT(申込書!C4,1)) -> 0
A2: 引率責任者 | C2: =IF(申込書!C5="","",申込書!C5) -> 0 | I2: ○ | J2: 指導員がわかるように
A3: コーチ | C3: =IF(申込書!C6="","",申込書!C6) -> 0 | J3: 指導員は(指)と記入してください
A4: Ａコーチ | C4: =IF(申込書!G5="","",申込書!G5) -> 0 | I4: ○ | J4: 外部指導者には 線を引いてください。
A5: NO | B5: 選 手 名 | D5: 学年 | E5: 身 長 | F5: Lisence No.
A6: 4 | B6: =IF(申込書!C9="","",申込書!C9) -> 0 | D6: =IF(申込書!E9="","",申込書!E9) -> 0 | E6: =IF(申込書!F9="","",申込書!F9) -> 0 | F6: =TO用メンバー表!C40 -> 0 | G6: =TO用メンバー表!E40 -> 0 | H6: =TO用メンバー表!G40 -> 0
A7: 5 | B7: =IF(申込書!C10="","",申込書!C10) -> 0 | D7: =IF(申込書!E10="","",申込書!E10) -> 0 | E7: =IF(申込書!F10="","",申込書!F10) -> 0 | F7: =TO用メンバー表!C44 -> 0 | G7: =TO用メンバー表!E44 -> 0 | H7: =TO用メンバー表!G44 -> 0
A8: 6 | B8: =IF(申込書!C11="","",申込書!C11) -> 0 | D8: =IF(申込書!E11="","",申込書!E11) -> 0 | E8: =IF(申込書!F11="","",申込書!F11) -> 0 | F8: =TO用メンバー表!C48 -> 0 | G8: =TO用メンバー表!E48 -> 0 | H8: =TO用メンバー表!G48 -> 0
A9: 7 | B9: =IF(申込書!C12="","",申込書!C12) -> 0 | D9: =IF(申込書!E12="","",申込書!E12) -> 0 | E9: =IF(申込書!F12="","",申込書!F12) -> 0 | F9: =TO用メンバー表!C52 -> 0 | G9: =TO用メンバー表!E52 -> 0 | H9: =TO用メンバー表!G52 -> 0
A10: 8 | B10: =IF(申込書!C13="","",申込書!C13) -> 0 | D10: =IF(申込書!E13="","",申込書!E13) -> 0 | E10: =IF(申込書!F13="","",申込書!F13) -> 0 | F10: =TO用メンバー表!C56 -> 0 | G10: =TO用メンバー表!E56 -> 0 | H10: =TO用メンバー表!G56 -> 0
A11: 9 | B11: =IF(申込書!C14="","",申込書!C14) -> 0 | D11: =IF(申込書!E14="","",申込書!E14) -> 0 | E11: =IF(申込書!F14="","",申込書!F14) -> 0 | F11: =TO用メンバー表!C60 -> 0 | G11: =TO用メンバー表!E60 -> 0 | H11: =TO用メンバー表!G60 -> 0
A12: 10 | B12: =IF(申込書!C15="","",申込書!C15) -> 0 | D12: =IF(申込書!E15="","",申込書!E15) -> 0 | E12: =IF(申込書!F15="","",申込書!F15) -> 0 | F12: =TO用メンバー表!C64 -> 0 | G12: =TO用メンバー表!E64 -> 0 | H12: =TO用メンバー表!G64 -> 0
A13: 11 | B13: =IF(申込書!C16="","",申込書!C16) -> 0 | D13: =IF(申込書!E16="","",申込書!E16) -> 0 | E13: =IF(申込書!F16="","",申込書!F16) -> 0 | F13: =TO用メンバー表!C68 -> 0 | G13: =TO用メンバー表!E68 -> 0 | H13: =TO用メンバー表!G68 -> 0
A14: 12 | B14: =IF(申込書!C17="","",申込書!C17) -> 0 | D14: =IF(申込書!E17="","",申込書!E17) -> 0 | E14: =IF(申込書!F17="","",申込書!F17) -> 0 | F14: =TO用メンバー表!C72 -> 0 | G14: =TO用メンバー表!E72 -> 0 | H14: =TO用メンバー表!G72 -> 0
A15: 13 | B15: =IF(申込書!C18="","",申込書!C18) -> 0 | D15: =IF(申込書!E18="","",申込書!E18) -> 0 | E15: =IF(申込書!F18="","",申込書!F18) -> 0 | F15: =TO用メンバー表!C76 -> 0 | G15: =TO用メンバー表!E76 -> 0 | H15: =TO用メンバー表!G76 -> 0
A16: 14 | B16: =IF(申込書!C19="","",申込書!C19) -> 0 | D16: =IF(申込書!E19="","",申込書!E19) -> 0 | E16: =IF(申込書!F19="","",申込書!F19) -> 0 | F16: =TO用メンバー表!C80 -> 0 | G16: =TO用メンバー表!E80 -> 0 | H16: =TO用メンバー表!G80 -> 0
A17: 15 | B17: =IF(申込書!C20="","",申込書!C20) -> 0 | D17: =IF(申込書!E20="","",申込書!E20) -> 0 | E17: =IF(申込書!F20="","",申込書!F20) -> 0 | F17: =TO用メンバー表!C84 -> 0 | G17: =TO用メンバー表!E84 -> 0 | H17: =TO用メンバー表!G84 -> 0
A18: 16 | B18: =IF(申込書!C21="","",申込書!C21) -> 0 | D18: =IF(申込書!E21="","",申込書!E21) -> 0 | E18: =IF(申込書!F21="","",申込書!F21) -> 0 | F18: =TO用メンバー表!C88 -> 0 | G18: =TO用メンバー表!E88 -> 0 | H18: =TO用メンバー表!G88 -> 0
A19: 17 | B19: =IF(申込書!C22="","",申込書!C22) -> 0 | D19: =IF(申込書!E22="","",申込書!E22) -> 0 | E19: =IF(申込書!F22="","",申込書!F22) -> 0 | F19: =TO用メンバー表!C92 -> 0 | G19: =TO用メンバー表!E92 -> 0 | H19: =TO用メンバー表!G92 -> 0
A20: 18 | B20: =IF(申込書!C23="","",申込書!C23) -> 0 | D20: =IF(申込書!E23="","",申込書!E23) -> 0 | E20: =IF(申込書!F23="","",申込書!F23) -> 0 | F20: =TO用メンバー表!C96 -> 0 | G20: =TO用メンバー表!E96 -> 0 | H20: =TO用メンバー表!G96 -> 0
A21: 19 | B21: =IF(申込書!C24="","",申込書!C24) -> 0 | D21: =IF(申込書!E24="","",申込書!E24) -> 0 | E21: =IF(申込書!F24="","",申込書!F24) -> 0 | F21: =TO用メンバー表!C100 -> 0 | G21: =TO用メンバー表!E100 -> 0 | H21: =TO用メンバー表!G100 -> 0
A22: 20 | B22: =IF(申込書!C25="","",申込書!C25) -> 0 | D22: =IF(申込書!E25="","",申込書!E25) -> 0 | E22: =IF(申込書!F25="","",申込書!F25) -> 0 | F22: =TO用メンバー表!C104 -> 0 | G22: =TO用メンバー表!E104 -> 0 | H22: =TO用メンバー表!G104 -> 0
A23: 21 | B23: =IF(申込書!C26="","",申込書!C26) -> 0 | D23: =IF(申込書!E26="","",申込書!E26) -> 0 | E23: =IF(申込書!F26="","",申込書!F26) -> 0 | F23: =TO用メンバー表!C108 -> 0 | G23: =TO用メンバー表!E108 -> 0 | H23: =TO用メンバー表!G108 -> 0

Sheet メンバー表 （番号なし）
A1: =IF(申込書!C3="","",申込書!C3) -> 0
A2: 引率責任者 | C2: =IF(申込書!C5="","",申込書!C5) -> 0 | F2: ○ | G2: 指導員がわかるように
A3: コーチ | C3: =IF(申込書!C6="","",申込書!C6) -> 0 | G3: 指導員は(指)と記入してください
A4: Ａコーチ | C4: =IF(申込書!G5="","",申込書!G5) -> 0 | F4: ○ | G4: 外部指導者には 線を引いてください。
A5: NO | B5: 選 手 名 | D5: 学年 | E5: 身 長
A6: 4 | B6: =IF(申込書!C9="","",申込書!C9) -> 0 | D6: =IF(申込書!E9="","",申込書!E9) -> 0 | E6: =IF(申込書!F9="","",申込書!F9) -> 0
A7: 5 | B7: =IF(申込書!C10="","",申込書!C10) -> 0 | D7: =IF(申込書!E10="","",申込書!E10) -> 0 | E7: =IF(申込書!F10="","",申込書!F10) -> 0
A8: 6 | B8: =IF(申込書!C11="","",申込書!C11) -> 0 | D8: =IF(申込書!E11="","",申込書!E11) -> 0 | E8: =IF(申込書!F11="","",申込書!F11) -> 0
A9: 7 | B9: =IF(申込書!C12="","",申込書!C12) -> 0 | D9: =IF(申込書!E12="","",申込書!E12) -> 0 | E9: =IF(申込書!F12="","",申込書!F12) -> 0
A10: 8 | B10: =IF(申込書!C13="","",申込書!C13) -> 0 | D10: =IF(申込書!E13="","",申込書!E13) -> 0 | E10: =IF(申込書!F13="","",申込書!F13) -> 0
A11: 9 | B11: =IF(申込書!C14="","",申込書!C14) -> 0 | D11: =IF(申込書!E14="","",申込書!E14) -> 0 | E11: =IF(申込書!F14="","",申込書!F14) -> 0
A12: 10 | B12: =IF(申込書!C15="","",申込書!C15) -> 0 | D12: =IF(申込書!E15="","",申込書!E15) -> 0 | E12: =IF(申込書!F15="","",申込書!F15) -> 0
A13: 11 | B13: =IF(申込書!C16="","",申込書!C16) -> 0 | D13: =IF(申込書!E16="","",申込書!E16) -> 0 | E13: =IF(申込書!F16="","",申込書!F16) -> 0
A14: 12 | B14: =IF(申込書!C17="","",申込書!C17) -> 0 | D14: =IF(申込書!E17="","",申込書!E17) -> 0 | E14: =IF(申込書!F17="","",申込書!F17) -> 0
A15: 13 | B15: =IF(申込書!C18="","",申込書!C18) -> 0 | D15: =IF(申込書!E18="","",申込書!E18) -> 0 | E15: =IF(申込書!F18="","",申込書!F18) -> 0
A16: 14 | B16: =IF(申込書!C19="","",申込書!C19) -> 0 | D16: =IF(申込書!E19="","",申込書!E19) -> 0 | E16: =IF(申込書!F19="","",申込書!F19) -> 0
A17: 15 | B17: =IF(申込書!C20="","",申込書!C20) -> 0 | D17: =IF(申込書!E20="","",申込書!E20) -> 0 | E17: =IF(申込書!F20="","",申込書!F20) -> 0
... A23: 21 | B23: =IF(申込書!C26="","",申込書!C26) -> 0 | D23: =IF(申込書!E26="","",申込書!E26) -> 0 | E23: =IF(申込書!F26="","",申込書!F26) -> 0

Sheet 提出用（男子）（番号なし）
A2: 引率責任者 | G2: 引率責任者 | M2: 引率責任者 | R2: ○ | S2: 指導員がわかるように
A3: コーチ | G3: コーチ | M3: コーチ | S3: 指導員は(指)と記入してください
A4: Ａコーチ | G4: Ａコーチ | M4: Ａコーチ | R4: ○ | S4: 外部指導者には 線を引いてください。
A5: NO | B5: 選 手 名 | D5: 学年 | E5: 身 長 | G5: NO | H5: 選 手 名 | J5: 学年 | K5: 身 長 | M5: NO | N5: 選 手 名 | P5: 学年 | Q5: 身 長
A6: 4 | G6: 4 | M6: 4
A7: 5 | G7: 5 | M7: 5
A8: 6 | G8: 6 | M8: 6
A9: 7 | G9: 7 | M9: 7
A10: 8 | G10: 8 | M10: 8
A11: 9 | G11: 9 | M11: 9
A12: 10 | G12: 10 | M12: 10
A13: 11 | G13: 11 | M13: 11
A14: 12 | G14: 12 | M14: 12
A15: 13 | G15: 13 | M15: 13
A16: 14 | G16: 14 | M16: 14
A17: 15 | G17: 15 | M17: 15
... A23: 21 | G23: 21 | M23: 21
A26: 引率責任者 | G26: 引率責任者 | M26: 引率責任者
A27: コーチ | G27: コーチ | M27: コーチ
A28: Ａコーチ | G28: Ａコーチ | M28: Ａコーチ
A29: NO | B29: 選 手 名 | D29: 学年 | E29: 身 長 | G29: NO | H29: 選 手 名 | J29: 学年 | K29: 身 長 | M29: NO | N29: 選 手 名 | P29: 学年 | Q29: 身 長
A30: 4 | G30: 4 | M30: 4
A31: 5 | G31: 5 | M31: 5
A32: 6 | G32: 6 | M32: 6
A33: 7 | G33: 7 | M33: 7
A34: 8 | G34: 8 | M34: 8
A35: 9 | G35: 9 | M35: 9
A36: 10 | G36: 10 | M36: 10
A37: 11 | G37: 11 | M37: 11
A38: 12 | G38: 12 | M38: 12
A39: 13 | G39: 13 | M39: 13
A40: 14 | G40: 14 | M40: 14
A41: 15 | G41: 15 | M41: 15
... A47: 21 | G47: 21 | M47: 21
A50: 引率責任者 | G50: 引率責任者 | M50: 引率責任者
A51: コーチ | G51: コーチ | M51: コーチ
A52: Ａコーチ | G52: Ａコーチ | M52: Ａコーチ
A53: NO | B53: 選 手 名 | D53: 学年 | E53: 身 長 | G53: NO | H53: 選 手 名 | J53: 学年 | K53: 身 長 | M53: NO | N53: 選 手 名 | P53: 学年 | Q53: 身 長
A54: 4 | G54: 4 | M54: 4
A55: 5 | G55: 5 | M55: 5
A56: 6 | G56: 6 | M56: 6
A57: 7 | G57: 7 | M57: 7
A58: 8 | G58: 8 | M58: 8
A59: 9 | G59: 9 | M59: 9
A60: 10 | G60: 10 | M60: 10
A61: 11 | G61: 11 | M61: 11
A62: 12 | G62: 12 | M62: 12
A63: 13 | G63: 13 | M63: 13
A64: 14 | G64: 14 | M64: 14
A65: 15 | G65: 15 | M65: 15
... A71: 21 | G71: 21 | M71: 21

Sheet 提出用（女子）（番号なし）
A2: 引率責任者 | G2: 引率責任者 | M2: 引率責任者 | R2: ○ | S2: 指導員がわかるように
A3: コーチ | G3: コーチ | M3: コーチ | S3: 指導員は(指)と記入してください
A4: Ａコーチ | G4: Ａコーチ | M4: Ａコーチ | R4: ○ | S4: 外部指導者には 線を引いてください。
A5: NO | B5: 選 手 名 | D5: 学年 | E5: 身 長 | G5: NO | H5: 選 手 名 | J5: 学年 | K5: 身 長 | M5: NO | N5: 選 手 名 | P5: 学年 | Q5: 身 長
A6: 4 | G6: 4 | M6: 4
A7: 5 | G7: 5 | M7: 5
A8: 6 | G8: 6 | M8: 6
A9: 7 | G9: 7 | M9: 7
A10: 8 | G10: 8 | M10: 8
A11: 9 | G11: 9 | M11: 9
A12: 10 | G12: 10 | M12: 10
A13: 11 | G13: 11 | M13: 11
A14: 12 | G14: 12 | M14: 12
A15: 13 | G15: 13 | M15: 13
A16: 14 | G16: 14 | M16: 14
A17: 15 | G17: 15 | M17: 15
... A23: 21 | G23: 21 | M23: 21
A26: 引率責任者 | G26: 引率責任者 | M26: 引率責任者
A27: コーチ | G27: コーチ | M27: コーチ
A28: Ａコーチ | G28: Ａコーチ | M28: Ａコーチ
A29: NO | B29: 選 手 名 | D29: 学年 | E29: 身 長 | G29: NO | H29: 選 手 名 | J29: 学年 | K29: 身 長 | M29: NO | N29: 選 手 名 | P29: 学年 | Q29: 身 長
A30: 4 | G30: 4 | M30: 4
A31: 5 | G31: 5 | M31: 5
A32: 6 | G32: 6 | M32: 6
A33: 7 | G33: 7 | M33: 7
A34: 8 | G34: 8 | M34: 8
A35: 9 | G35: 9 | M35: 9
A36: 10 | G36: 10 | M36: 10
A37: 11 | G37: 11 | M37: 11
A38: 12 | G38: 12 | M38: 12
A39: 13 | G39: 13 | M39: 13
A40: 14 | G40: 14 | M40: 14
A41: 15 | G41: 15 | M41: 15
... A47: 21 | G47: 21 | M47: 21
A50: 引率責任者 | G50: 引率責任者 | M50: 引率責任者
A51: コーチ | G51: コーチ | M51: コーチ
A52: Ａコーチ | G52: Ａコーチ | M52: Ａコーチ
A53: NO | B53: 選 手 名 | D53: 学年 | E53: 身 長 | G53: NO | H53: 選 手 名 | J53: 学年 | K53: 身 長 | M53: NO | N53: 選 手 名 | P53: 学年 | Q53: 身 長
A54: 4 | G54: 4 | M54: 4
A55: 5 | G55: 5 | M55: 5
A56: 6 | G56: 6 | M56: 6
A57: 7 | G57: 7 | M57: 7
A58: 8 | G58: 8 | M58: 8
A59: 9 | G59: 9 | M59: 9
A60: 10 | G60: 10 | M60: 10
A61: 11 | G61: 11 | M61: 11
A62: 12 | G62: 12 | M62: 12
A63: 13 | G63: 13 | M63: 13
A64: 14 | G64: 14 | M64: 14
A65: 15 | G65: 15 | M65: 15
... A71: 21 | G71: 21 | M71: 21

Sheet 提出用（男子）（番号あり）
A2: 引率責任者 | J2: 引率責任者 | S2: 引率責任者
A3: コーチ | J3: コーチ | S3: コーチ
A4: Ａコーチ | J4: Ａコーチ | S4: Ａコーチ
A5: NO | B5: 選 手 名 | D5: 学年 | E5: 身 長 | F5: Lisence No. | J5: NO | K5: 選 手 名 | M5: 学年 | N5: 身 長 | O5: Lisence No. | S5: NO | T5: 選 手 名 | V5: 学年 | W5: 身 長 | X5: Lisence No.
A6: 4 | J6: 4 | S6: 4
A7: 5 | J7: 5 | S7: 5
A8: 6 | J8: 6 | S8: 6
A9: 7 | J9: 7 | S9: 7
A10: 8 | J10: 8 | S10: 8
A11: 9 | J11: 9 | S11: 9
A12: 10 | J12: 10 | S12: 10
A13: 11 | J13: 11 | S13: 11
A14: 12 | J14: 12 | S14: 12
A15: 13 | J15: 13 | S15: 13
A16: 14 | J16: 14 | S16: 14
A17: 15 | J17: 15 | S17: 15
... A23: 21 | J23: 21 | S23: 21
A26: 引率責任者 | J26: 引率責任者 | S26: 引率責任者
A27: コーチ | J27: コーチ | S27: コーチ
A28: Ａコーチ | J28: Ａコーチ | S28: Ａコーチ
A29: NO | B29: 選 手 名 | D29: 学年 | E29: 身 長 | F29: Lisence No. | J29: NO | K29: 選 手 名 | M29: 学年 | N29: 身 長 | O29: Lisence No. | S29: NO | T29: 選 手 名 | V29: 学年 | W29: 身 長 | X29: Lisence No.
A30: 4 | J30: 4 | S30: 4
A31: 5 | J31: 5 | S31: 5
A32: 6 | J32: 6 | S32: 6
A33: 7 | J33: 7 | S33: 7
A34: 8 | J34: 8 | S34: 8
A35: 9 | J35: 9 | S35: 9
A36: 10 | J36: 10 | S36: 10
A37: 11 | J37: 11 | S37: 11
A38: 12 | J38: 12 | S38: 12
A39: 13 | J39: 13 | S39: 13
A40: 14 | J40: 14 | S40: 14
A41: 15 | J41: 15 | S41: 15
... A47: 21 | J47: 21 | S47: 21
A50: 引率責任者 | J50: 引率責任者 | S50: 引率責任者
A51: コーチ | J51: コーチ | S51: コーチ
A52: Ａコーチ | J52: Ａコーチ | S52: Ａコーチ
A53: NO | B53: 選 手 名 | D53: 学年 | E53: 身 長 | F53: Lisence No. | J53: NO | K53: 選 手 名 | M53: 学年 | N53: 身 長 | O53: Lisence No. | S53: NO | T53: 選 手 名 | V53: 学年 | W53: 身 長 | X53: Lisence No.
A54: 4 | J54: 4 | S54: 4
A55: 5 | J55: 5 | S55: 5
A56: 6 | J56: 6 | S56: 6
A57: 7 | J57: 7 | S57: 7
A58: 8 | J58: 8 | S58: 8
A59: 9 | J59: 9 | S59: 9
A60: 10 | J60: 10 | S60: 10
A61: 11 | J61: 11 | S61: 11
A62: 12 | J62: 12 | S62: 12
A63: 13 | J63: 13 | S63: 13
A64: 14 | J64: 14 | S64: 14
A65: 15 | J65: 15 | S65: 15
... A71: 21 | J71: 21 | S71: 21

Sheet 提出用（女子）（番号あり）
A2: 引率責任者 | J2: 引率責任者 | S2: 引率責任者
A3: コーチ | J3: コーチ | S3: コーチ
A4: Ａコーチ | J4: Ａコーチ | S4: Ａコーチ
A5: NO | B5: 選 手 名 | D5: 学年 | E5: 身 長 | F5: Lisence No. | J5: NO | K5: 選 手 名 | M5: 学年 | N5: 身 長 | O5: Lisence No. | S5: NO | T5: 選 手 名 | V5: 学年 | W5: 身 長 | X5: Lisence No.
A6: 4 | J6: 4 | S6: 4
A7: 5 | J7: 5 | S7: 5
A8: 6 | J8: 6 | S8: 6
A9: 7 | J9: 7 | S9: 7
A10: 8 | J10: 8 | S10: 8
A11: 9 | J11: 9 | S11: 9
A12: 10 | J12: 10 | S12: 10
A13: 11 | J13: 11 | S13: 11
A14: 12 | J14: 12 | S14: 12
A15: 13 | J15: 13 | S15: 13
A16: 14 | J16: 14 | S16: 14
A17: 15 | J17: 15 | S17: 15
... A23: 21 | J23: 21 | S23: 21
A26: 引率責任者 | J26: 引率責任者 | S26: 引率責任者
A27: コーチ | J27: コーチ | S27: コーチ
A28: Ａコーチ | J28: Ａコーチ | S28: Ａコーチ
A29: NO | B29: 選 手 名 | D29: 学年 | E29: 身 長 | F29: Lisence No. | J29: NO | K29: 選 手 名 | M29: 学年 | N29: 身 長 | O29: Lisence No. | S29: NO | T29: 選 手 名 | V29: 学年 | W29: 身 長 | X29: Lisence No.
A30: 4 | J30: 4 | S30: 4
A31: 5 | J31: 5 | S31: 5
A32: 6 | J32: 6 | S32: 6
A33: 7 | J33: 7 | S33: 7
A34: 8 | J34: 8 | S34: 8
A35: 9 | J35: 9 | S35: 9
A36: 10 | J36: 10 | S36: 10
A37: 11 | J37: 11 | S37: 11
A38: 12 | J38: 12 | S38: 12
A39: 13 | J39: 13 | S39: 13
A40: 14 | J40: 14 | S40: 14
A41: 15 | J41: 15 | S41: 15
... A47: 21 | J47: 21 | S47: 21
A50: 引率責任者 | J50: 引率責任者 | S50: 引率責任者
A51: コーチ | J51: コーチ | S51: コーチ
A52: Ａコーチ | J52: Ａコーチ | S52: Ａコーチ
A53: NO | B53: 選 手 名 | D53: 学年 | E53: 身 長 | F53: Lisence No. | J53: NO | K53: 選 手 名 | M53: 学年 | N53: 身 長 | O53: Lisence No. | S53: NO | T53: 選 手 名 | V53: 学年 | W53: 身 長 | X53: Lisence No.
A54: 4 | J54: 4 | S54: 4
A55: 5 | J55: 5 | S55: 5
A56: 6 | J56: 6 | S56: 6
A57: 7 | J57: 7 | S57: 7
A58: 8 | J58: 8 | S58: 8
A59: 9 | J59: 9 | S59: 9
A60: 10 | J60: 10 | S60: 10
A61: 11 | J61: 11 | S61: 11
A62: 12 | J62: 12 | S62: 12
A63: 13 | J63: 13 | S63: 13
A64: 14 | J64: 14 | S64: 14
A65: 15 | J65: 15 | S65: 15
... A71: 21 | J71: 21 | S71: 21
